BEGIN:VCALENDAR
VERSION:2.0
PRODID:-//SensoryWellness - ECPv6.10.1.1//NONSGML v1.0//EN
CALSCALE:GREGORIAN
METHOD:PUBLISH
X-ORIGINAL-URL:http://sensorywellness.com
X-WR-CALDESC:Events for SensoryWellness
REFRESH-INTERVAL;VALUE=DURATION:PT1H
X-Robots-Tag:noindex
X-PUBLISHED-TTL:PT1H
BEGIN:VTIMEZONE
TZID:America/New_York
BEGIN:DAYLIGHT
TZOFFSETFROM:-0500
TZOFFSETTO:-0400
TZNAME:EDT
DTSTART:20200308T070000
END:DAYLIGHT
BEGIN:STANDARD
TZOFFSETFROM:-0400
TZOFFSETTO:-0500
TZNAME:EST
DTSTART:20201101T060000
END:STANDARD
END:VTIMEZONE
BEGIN:VEVENT
DTSTART;TZID=America/New_York:20201231T210000
DTEND;TZID=America/New_York:20201231T214500
DTSTAMP:20260420T215430
CREATED:20201021T022437Z
LAST-MODIFIED:20201129T171634Z
UID:1477-1609448400-1609451100@sensorywellness.com
SUMMARY:Grounding & Stability - Session 8
DESCRIPTION:This class is focused on balance\, grounding\, and centering. \nSession #8 of 8 \n  \nRegister
URL:http://sensorywellness.com/event/grounding-stability-2/
LOCATION:Zoom – Remote
CATEGORIES:Intermediate
END:VEVENT
END:VCALENDAR